BEGIN:VCALENDAR
VERSION:2.0
PRODID:-//Shirdi Sai Temple of Atlanta - ECPv6.15.20//NONSGML v1.0//EN
CALSCALE:GREGORIAN
METHOD:PUBLISH
X-ORIGINAL-URL:https://saitempleatlanta.org
X-WR-CALDESC:Events for Shirdi Sai Temple of Atlanta
REFRESH-INTERVAL;VALUE=DURATION:PT1H
X-Robots-Tag:noindex
X-PUBLISHED-TTL:PT1H
BEGIN:VTIMEZONE
TZID:America/New_York
BEGIN:DAYLIGHT
TZOFFSETFROM:-0500
TZOFFSETTO:-0400
TZNAME:EDT
DTSTART:20230312T070000
END:DAYLIGHT
BEGIN:STANDARD
TZOFFSETFROM:-0400
TZOFFSETTO:-0500
TZNAME:EST
DTSTART:20231105T060000
END:STANDARD
BEGIN:DAYLIGHT
TZOFFSETFROM:-0500
TZOFFSETTO:-0400
TZNAME:EDT
DTSTART:20240310T070000
END:DAYLIGHT
BEGIN:STANDARD
TZOFFSETFROM:-0400
TZOFFSETTO:-0500
TZNAME:EST
DTSTART:20241103T060000
END:STANDARD
BEGIN:DAYLIGHT
TZOFFSETFROM:-0500
TZOFFSETTO:-0400
TZNAME:EDT
DTSTART:20250309T070000
END:DAYLIGHT
BEGIN:STANDARD
TZOFFSETFROM:-0400
TZOFFSETTO:-0500
TZNAME:EST
DTSTART:20251102T060000
END:STANDARD
BEGIN:DAYLIGHT
TZOFFSETFROM:-0500
TZOFFSETTO:-0400
TZNAME:EDT
DTSTART:20260308T070000
END:DAYLIGHT
BEGIN:STANDARD
TZOFFSETFROM:-0400
TZOFFSETTO:-0500
TZNAME:EST
DTSTART:20261101T060000
END:STANDARD
END:VTIMEZONE
BEGIN:VEVENT
DTSTART;VALUE=DATE:20250405
DTEND;VALUE=DATE:20250406
DTSTAMP:20260421T161741
CREATED:20240421T124947Z
LAST-MODIFIED:20250325T155509Z
UID:5843-1743811200-1743897599@saitempleatlanta.org
SUMMARY:Sri Rama Navami
DESCRIPTION:
URL:https://saitempleatlanta.org/calendar-event/sri-rama-navami/
END:VEVENT
BEGIN:VEVENT
DTSTART;TZID=America/New_York:20240106T190000
DTEND;TZID=America/New_York:20240106T200000
DTSTAMP:20260421T161741
CREATED:20240601T203311Z
LAST-MODIFIED:20240803T104541Z
UID:5961-1704567600-1704571200@saitempleatlanta.org
SUMMARY:Sai Padhuka Pooja
DESCRIPTION:
URL:https://saitempleatlanta.org/calendar-event/sai-padhuka-pooja/
LOCATION:Temple\, 700 James Burgess Road\, Suwanee\, GA\, 30024\, United States
END:VEVENT
BEGIN:VEVENT
DTSTART;TZID=America/New_York:20250405T190000
DTEND;TZID=America/New_York:20250405T210000
DTSTAMP:20260421T161741
CREATED:20250325T154128Z
LAST-MODIFIED:20250325T154128Z
UID:6602-1743879600-1743886800@saitempleatlanta.org
SUMMARY:SitaRama Kalyanam
DESCRIPTION:
URL:https://saitempleatlanta.org/calendar-event/sitarama-kalyanam/
END:VEVENT
END:VCALENDAR