BEGIN:VCALENDAR
VERSION:2.0
PRODID:-//Shirdi Sai Temple of Atlanta - ECPv6.15.20//NONSGML v1.0//EN
CALSCALE:GREGORIAN
METHOD:PUBLISH
X-ORIGINAL-URL:https://saitempleatlanta.org
X-WR-CALDESC:Events for Shirdi Sai Temple of Atlanta
REFRESH-INTERVAL;VALUE=DURATION:PT1H
X-Robots-Tag:noindex
X-PUBLISHED-TTL:PT1H
BEGIN:VTIMEZONE
TZID:America/New_York
BEGIN:DAYLIGHT
TZOFFSETFROM:-0500
TZOFFSETTO:-0400
TZNAME:EDT
DTSTART:20240310T070000
END:DAYLIGHT
BEGIN:STANDARD
TZOFFSETFROM:-0400
TZOFFSETTO:-0500
TZNAME:EST
DTSTART:20241103T060000
END:STANDARD
BEGIN:DAYLIGHT
TZOFFSETFROM:-0500
TZOFFSETTO:-0400
TZNAME:EDT
DTSTART:20250309T070000
END:DAYLIGHT
BEGIN:STANDARD
TZOFFSETFROM:-0400
TZOFFSETTO:-0500
TZNAME:EST
DTSTART:20251102T060000
END:STANDARD
BEGIN:DAYLIGHT
TZOFFSETFROM:-0500
TZOFFSETTO:-0400
TZNAME:EDT
DTSTART:20260308T070000
END:DAYLIGHT
BEGIN:STANDARD
TZOFFSETFROM:-0400
TZOFFSETTO:-0500
TZNAME:EST
DTSTART:20261101T060000
END:STANDARD
END:VTIMEZONE
BEGIN:VEVENT
DTSTART;TZID=America/New_York:20250216T100000
DTEND;TZID=America/New_York:20250216T110000
DTSTAMP:20260422T062759
CREATED:20250116T032703Z
LAST-MODIFIED:20250116T032703Z
UID:6376-1739700000-1739703600@saitempleatlanta.org
SUMMARY:Kids Drawing Competition - Level 1
DESCRIPTION:
URL:https://saitempleatlanta.org/calendar-event/kids-drawing-competition-level-1/
LOCATION:Temple\, 700 James Burgess Road\, Suwanee\, GA\, 30024\, United States
END:VEVENT
BEGIN:VEVENT
DTSTART;TZID=America/New_York:20250216T123000
DTEND;TZID=America/New_York:20250216T140000
DTSTAMP:20260422T062759
CREATED:20250116T032745Z
LAST-MODIFIED:20250116T032745Z
UID:6378-1739709000-1739714400@saitempleatlanta.org
SUMMARY:Kids Drawing Competition - Level 2
DESCRIPTION:
URL:https://saitempleatlanta.org/calendar-event/kids-drawing-competition-level-2/
LOCATION:Temple\, 700 James Burgess Road\, Suwanee\, GA\, 30024\, United States
END:VEVENT
BEGIN:VEVENT
DTSTART;TZID=America/New_York:20250420T160000
DTEND;TZID=America/New_York:20250420T173000
DTSTAMP:20260422T062759
CREATED:20240421T120650Z
LAST-MODIFIED:20250325T155303Z
UID:5828-1745164800-1745170200@saitempleatlanta.org
SUMMARY:Sai Bhajans
DESCRIPTION:
URL:https://saitempleatlanta.org/calendar-event/sai-bhajans/
END:VEVENT
END:VCALENDAR